BEGIN:VCALENDAR
VERSION:2.0
PRODID:-//SMART Coworking - ECPv6.15.20//NONSGML v1.0//EN
CALSCALE:GREGORIAN
METHOD:PUBLISH
X-ORIGINAL-URL:https://smartcoworking.ad
X-WR-CALDESC:Events for SMART Coworking
REFRESH-INTERVAL;VALUE=DURATION:PT1H
X-Robots-Tag:noindex
X-PUBLISHED-TTL:PT1H
BEGIN:VTIMEZONE
TZID:UTC
BEGIN:STANDARD
TZOFFSETFROM:+0000
TZOFFSETTO:+0000
TZNAME:UTC
DTSTART:20250101T000000
END:STANDARD
END:VTIMEZONE
BEGIN:VEVENT
DTSTART;TZID=UTC:20260312T190000
DTEND;TZID=UTC:20260312T200000
DTSTAMP:20260423T201827
CREATED:20260224T143643Z
LAST-MODIFIED:20260224T152508Z
UID:15284-1773342000-1773345600@smartcoworking.ad
SUMMARY:March Tech Session - AI and its use in digital professions - SMART Coworking PB
DESCRIPTION:March Tech Session – AI and its use in digital professions – SMART Coworking\nWe are pleased to host this session organized by SEED Andorra with a dynamic format including: \n\nshort real-world experience sharing (lightning talks)\nlive demos of AI tools and workflows\nan open discussion between tech professionals\n\nThe goal is to exchange practical use cases and explore how AI is concretely impacting our daily work. \nLocation: SMART Co Working \nDate: Thursday\, March 12 \nTime: 7:00 PM \nIf anyone would like to share a short experience (5–8 minutes) or present a live demo\, feel free to contact me privately. \nA second session will soon be organized for the topic that ranked second in the poll. \nPlease confirm your attendance.
URL:https://smartcoworking.ad/event/ai-and-its-use-in-digital-professions/
LOCATION:SMART Coworking\, Av. Príncep Benlloch\, 30\, Planta Baixa\, Andorra la Vella\, AD500\, Andorra
CATEGORIES:Conferences
ATTACH;FMTTYPE=image/jpeg:https://smartcoworking.ad/wp-content/uploads/2026/02/ai-and-its-use-in-digital-professions.jpg
END:VEVENT
END:VCALENDAR