BEGIN:VCALENDAR
VERSION:2.0
PRODID:-//SMART Coworking - ECPv6.15.20//NONSGML v1.0//EN
CALSCALE:GREGORIAN
METHOD:PUBLISH
X-WR-CALNAME:SMART Coworking
X-ORIGINAL-URL:https://smartcoworking.ad
X-WR-CALDESC:Events for SMART Coworking
REFRESH-INTERVAL;VALUE=DURATION:PT1H
X-Robots-Tag:noindex
X-PUBLISHED-TTL:PT1H
BEGIN:VTIMEZONE
TZID:Europe/Andorra
BEGIN:DAYLIGHT
TZOFFSETFROM:+0100
TZOFFSETTO:+0200
TZNAME:CEST
DTSTART:20230326T010000
END:DAYLIGHT
BEGIN:STANDARD
TZOFFSETFROM:+0200
TZOFFSETTO:+0100
TZNAME:CET
DTSTART:20231029T010000
END:STANDARD
BEGIN:DAYLIGHT
TZOFFSETFROM:+0100
TZOFFSETTO:+0200
TZNAME:CEST
DTSTART:20240331T010000
END:DAYLIGHT
BEGIN:STANDARD
TZOFFSETFROM:+0200
TZOFFSETTO:+0100
TZNAME:CET
DTSTART:20241027T010000
END:STANDARD
BEGIN:DAYLIGHT
TZOFFSETFROM:+0100
TZOFFSETTO:+0200
TZNAME:CEST
DTSTART:20250330T010000
END:DAYLIGHT
BEGIN:STANDARD
TZOFFSETFROM:+0200
TZOFFSETTO:+0100
TZNAME:CET
DTSTART:20251026T010000
END:STANDARD
END:VTIMEZONE
BEGIN:VTIMEZONE
TZID:UTC
BEGIN:STANDARD
TZOFFSETFROM:+0000
TZOFFSETTO:+0000
TZNAME:UTC
DTSTART:20230101T000000
END:STANDARD
END:VTIMEZONE
BEGIN:VTIMEZONE
TZID:Europe/Paris
BEGIN:DAYLIGHT
TZOFFSETFROM:+0100
TZOFFSETTO:+0200
TZNAME:CEST
DTSTART:20230326T010000
END:DAYLIGHT
BEGIN:STANDARD
TZOFFSETFROM:+0200
TZOFFSETTO:+0100
TZNAME:CET
DTSTART:20231029T010000
END:STANDARD
BEGIN:DAYLIGHT
TZOFFSETFROM:+0100
TZOFFSETTO:+0200
TZNAME:CEST
DTSTART:20240331T010000
END:DAYLIGHT
BEGIN:STANDARD
TZOFFSETFROM:+0200
TZOFFSETTO:+0100
TZNAME:CET
DTSTART:20241027T010000
END:STANDARD
BEGIN:DAYLIGHT
TZOFFSETFROM:+0100
TZOFFSETTO:+0200
TZNAME:CEST
DTSTART:20250330T010000
END:DAYLIGHT
BEGIN:STANDARD
TZOFFSETFROM:+0200
TZOFFSETTO:+0100
TZNAME:CET
DTSTART:20251026T010000
END:STANDARD
END:VTIMEZONE
BEGIN:VEVENT
DTSTART;TZID=Europe/Andorra:20240530T190000
DTEND;TZID=Europe/Andorra:20240530T200000
DTSTAMP:20260424T005207
CREATED:20240506T125653Z
LAST-MODIFIED:20241120T062627Z
UID:3534-1717095600-1717099200@smartcoworking.ad
SUMMARY:Discover the ACTINN Innovation and Technology Cluster 05/30 - 19:00h
DESCRIPTION:ACTINN Presentation: Building Connections: Discover the Actinn Innovation and Technology Cluster \nWe invite you to a detailed presentation by Ignasi Martin\, Cluster Manager of Actinn\, who will introduce us to the Innovation and New Technologies Cluster. This event is ideal for those looking to join a technology-focused community and discover synergies. Participate in our Q&A session to explore how this initiative can benefit you and contribute to your professional development. \nTo register for this conference or request more information\, please fill out this form.
URL:https://smartcoworking.ad/event/discover-the-actinn-innovation-and-technology-cluster-05-30-1900h/
CATEGORIES:Conferences
ATTACH;FMTTYPE=:
END:VEVENT
BEGIN:VEVENT
DTSTART;TZID=Europe/Andorra:20240528T170000
DTEND;TZID=Europe/Andorra:20240528T183000
DTSTAMP:20260424T005207
CREATED:20240506T123609Z
LAST-MODIFIED:20241120T065215Z
UID:3521-1716915600-1716921000@smartcoworking.ad
SUMMARY:Tea tasting workshop 28/05 - 17:00h
DESCRIPTION:Explore the art of tea tasting in an international setting! Join us on May 28th at 5:00 PM for a tea tasting workshop presented by Mon thé\, in either French or English. You will discover an exquisite selection of five different types of tea: white\, green\, red\, oolong\, and black\, each paired with delicious sweets for a complete experience. The event will last 1h30 and the entry cost is €23 per person. \nRegistration is open until May 16th\, and a minimum of 5 participants is required to conduct the workshop. Don’t miss this unique opportunity to enhance your tea knowledge in your preferred language. Reserve your spot today and enjoy an afternoon of culture and flavor.
URL:https://smartcoworking.ad/event/tea-tasting-workshop-23-05-1700h/
CATEGORIES:Workshop
ATTACH;FMTTYPE=:
END:VEVENT
BEGIN:VEVENT
DTSTART;TZID=UTC:20240516T190000
DTEND;TZID=UTC:20240516T210000
DTSTAMP:20260424T005207
CREATED:20240503T083222Z
LAST-MODIFIED:20241120T065100Z
UID:13247-1715886000-1715893200@smartcoworking.ad
SUMMARY:Afterwork 16/05 - 19:00h
DESCRIPTION:Don’t miss the chance to connect with colleagues and make new friends! Come to our Afterwork next May 16\, at 7:00 p.m. It is the ideal time to relax after work\, share experiences and enjoy a pleasant time with other professionals. \nWe await you in a relaxed atmosphere where you can disconnect from the daily routine and expand your network of contacts. \nComplete this form if you want more information or to register.
URL:https://smartcoworking.ad/event/afterwork-16-05-1900h/
CATEGORIES:Afterwork
ATTACH;FMTTYPE=:
END:VEVENT
BEGIN:VEVENT
DTSTART;TZID=Europe/Paris:20240425T190000
DTEND;TZID=Europe/Paris:20240425T203000
DTSTAMP:20260424T005207
CREATED:20240327T111002Z
LAST-MODIFIED:20241119T062102Z
UID:13246-1714071600-1714077000@smartcoworking.ad
SUMMARY:Artificial intelligence and intellectual property law
DESCRIPTION:Intersection of Artificial Intelligence and Intellectual Property\nWith rapid technological advances\, the relationship between artificial intelligence (AI) and intellectual property is becoming an area of growing importance. Jonathan Hinkson\, head of the legal department at Augé Group and an intellectual property lawyer\, will give a presentation on the current challenges posed by AI for intellectual property law. We will examine the implications of these developments for creators and the creative industries\, highlighting emerging legal considerations in this space. Join us for an informative discussion on how AI is shaping the future of intellectual property.
URL:https://smartcoworking.ad/event/artificial-intelligence-and-intellectual-property-law/
CATEGORIES:Conferences
ATTACH;FMTTYPE=:
END:VEVENT
END:VCALENDAR